BEGIN:VCALENDAR
VERSION:2.0
PRODID:-//Associação Famílias - ECPv6.15.16//NONSGML v1.0//EN
CALSCALE:GREGORIAN
METHOD:PUBLISH
X-ORIGINAL-URL:https://associacaofamilias.pt
X-WR-CALDESC:Eventos para Associação Famílias
REFRESH-INTERVAL;VALUE=DURATION:PT1H
X-Robots-Tag:noindex
X-PUBLISHED-TTL:PT1H
BEGIN:VTIMEZONE
TZID:UTC
BEGIN:STANDARD
TZOFFSETFROM:+0000
TZOFFSETTO:+0000
TZNAME:UTC
DTSTART:20220101T000000
END:STANDARD
END:VTIMEZONE
BEGIN:VEVENT
DTSTART;VALUE=DATE:20231228
DTEND;VALUE=DATE:20231229
DTSTAMP:20260421T134922
CREATED:20230531T111557Z
LAST-MODIFIED:20230531T111557Z
UID:3983-1703721600-1703807999@associacaofamilias.pt
SUMMARY:Dia dos Santos Inocentes
DESCRIPTION:
URL:https://associacaofamilias.pt/event/dia-dos-santos-inocentes/
CATEGORIES:Eventos
END:VEVENT
BEGIN:VEVENT
DTSTART;VALUE=DATE:20231218
DTEND;VALUE=DATE:20231219
DTSTAMP:20260421T134922
CREATED:20230531T111532Z
LAST-MODIFIED:20230916T111751Z
UID:3981-1702857600-1702943999@associacaofamilias.pt
SUMMARY:Nossa Senhora do Ó
DESCRIPTION:A Festa de Nossa Senhora do Ó é uma devoção Mariana\, instituída no Século VI pelo X Concílio de Toledo e é conhecida na liturgia pelo nome de «Expectação do Parto de Nossa Senhora».O nome de Senhora do Ó advém do facto de\, as antífonas maiores\, de 18 de Dezembro à véspera de Natal\, começarem sempre pela interjeição exclamática «Ó». Simboliza a gravidez da Virgem Maria: «no avultado ventre sagrado se reconhecem as esperanças do parto».Em Portugal o culto a Nossa Senhora do Ó ter-se-ia iniciado em Torres Novas\, em Santa Maria do Castelo\, pela veneração de uma imagem\, sita na Capela-Mor da Igreja Matriz e conhecida à época de D. Afonso Henriques por Nossa Senhora de Almondano\, no tempo de D. Sancho I por Nossa Senhora de Alcáçova\, e a partir de 1212 por Nossa Senhora do Ó; é Padroeira de 16 freguesias.A devoção à Nossa Senhora do Ó procura\, sobretudo\, «celebrar a vida».Assim como Nossa Senhora\, na expectativa do nascimento do Salvador\, roguemos «Ó! Senhor\, vinde logo». \nNuma época como a nossa\, o direito à vida está profundamente ameaçado. Discute-se se o bebé que\, no ventre materno aguarda o dia do seu nascimento\, é ou não um ser humano. Exige-se a liberalização do aborto\, sem respeito algum pelo mais indefeso dos bebés – o que não nasceu. \nUrge\, assim\, defender aquele direito primeiro do ser humano: o direito à vida! E podemos fazê-lo pela oração e pela acção. Esta “Novena breve a Nossa Senhora do Ó” é um convite a orarmos por todos os bebés que ainda não nasceram\, com Maria\, que expectante\, aguardou o nascimento do Seu Filho durante nove meses como qualquer outra mulher. \nNossa Senhora da Expectação ou do Ó é invocação muito antiga que queremos recuperar neste momento da história da humanidade promovendo a sua devoção. Maria soube acolher o dom da vida em Seu Filho único\, Jesus Cristo. Assim\, possamos nós saber acolher cada filho! Rezemos com Maria por todas as crianças que ainda não nasceram\, por todas as mães que aguardam a sua chegada e por todos os pais que saibam ser dignos do dom da paternidade. \nQue na festa da Expectação do Parto da Beatíssima Virgem Maria (18 de Dezembro) conhecida desde tempos imemoráveis como Nossa Senhora do Ó\, sejamos capazes de ter a disponibilidade amorosa para acolher a vida nascente.
URL:https://associacaofamilias.pt/event/nossa-senhora-do-o/
CATEGORIES:Eventos
ATTACH;FMTTYPE=image/jpeg:https://associacaofamilias.pt/wp-content/uploads/2023/05/SenhoradoO.jpg
END:VEVENT
BEGIN:VEVENT
DTSTART;VALUE=DATE:20231122
DTEND;VALUE=DATE:20231123
DTSTAMP:20260421T134922
CREATED:20230531T111112Z
LAST-MODIFIED:20230531T111112Z
UID:3971-1700611200-1700697599@associacaofamilias.pt
SUMMARY:42.º aniversário da Exortação Apostólica FAMILIARIS CONSORTIO de Sua Santidade o Papa São João Paulo II
DESCRIPTION:
URL:https://associacaofamilias.pt/event/42-o-aniversario-da-exortacao-apostolica-familiaris-consortio-de-sua-santidade-o-papa-sao-joao-paulo-ii/
CATEGORIES:Eventos
END:VEVENT
BEGIN:VEVENT
DTSTART;VALUE=DATE:20231103
DTEND;VALUE=DATE:20231104
DTSTAMP:20260421T134922
CREATED:20230531T111504Z
LAST-MODIFIED:20230531T111504Z
UID:3979-1698969600-1699055999@associacaofamilias.pt
SUMMARY:Fundação da Associação Famílias
DESCRIPTION:
URL:https://associacaofamilias.pt/event/fundacao-da-associacao-familias/
CATEGORIES:Eventos
END:VEVENT
BEGIN:VEVENT
DTSTART;VALUE=DATE:20231022
DTEND;VALUE=DATE:20231023
DTSTAMP:20260421T134922
CREATED:20230531T111431Z
LAST-MODIFIED:20230531T111431Z
UID:3977-1697932800-1698019199@associacaofamilias.pt
SUMMARY:Festa de São João Paulo II\, o Papa da Família e da Vida
DESCRIPTION:
URL:https://associacaofamilias.pt/event/festa-de-sao-joao-paulo-ii-o-papa-da-familia-e-da-vida/
CATEGORIES:Eventos
END:VEVENT
BEGIN:VEVENT
DTSTART;VALUE=DATE:20230613
DTEND;VALUE=DATE:20230614
DTSTAMP:20260421T134922
CREATED:20230531T111039Z
LAST-MODIFIED:20230531T111039Z
UID:3969-1686614400-1686700799@associacaofamilias.pt
SUMMARY:Aniversário natalício de Jérôme Lejeune\, médico francês que descobriu a base genética da síndrome de Down
DESCRIPTION:
URL:https://associacaofamilias.pt/event/aniversario-natalicio-de-jerome-lejeune-medico-frances-que-descobriu-a-base-genetica-da-sindrome-de-down/
CATEGORIES:Eventos
END:VEVENT
BEGIN:VEVENT
DTSTART;VALUE=DATE:20230601
DTEND;VALUE=DATE:20230602
DTSTAMP:20260421T134922
CREATED:20230531T111355Z
LAST-MODIFIED:20230531T111355Z
UID:3975-1685577600-1685663999@associacaofamilias.pt
SUMMARY:Dia da Criança
DESCRIPTION:
URL:https://associacaofamilias.pt/event/dia-da-crianca/
CATEGORIES:Eventos
END:VEVENT
BEGIN:VEVENT
DTSTART;VALUE=DATE:20230601
DTEND;VALUE=DATE:20230606
DTSTAMP:20260421T134922
CREATED:20230531T104349Z
LAST-MODIFIED:20230531T112546Z
UID:3954-1685577600-1686009599@associacaofamilias.pt
SUMMARY:Associação famílias apresenta nova página
DESCRIPTION:É com grande agrado que é apresentado a nossa nova página. \nVoltada para todos os nossos seguidores.
URL:https://associacaofamilias.pt/event/associacao-familias-apresenta-nova-pagina/
CATEGORIES:Eventos
END:VEVENT
BEGIN:VEVENT
DTSTART;VALUE=DATE:20230515
DTEND;VALUE=DATE:20230516
DTSTAMP:20260421T134922
CREATED:20230531T110909Z
LAST-MODIFIED:20230531T110909Z
UID:3966-1684108800-1684195199@associacaofamilias.pt
SUMMARY:Dia Internacional da Família
DESCRIPTION:
URL:https://associacaofamilias.pt/event/dia-internacional-da-familia/
CATEGORIES:Eventos
END:VEVENT
BEGIN:VEVENT
DTSTART;VALUE=DATE:20230428
DTEND;VALUE=DATE:20230429
DTSTAMP:20260421T134922
CREATED:20230531T110818Z
LAST-MODIFIED:20230531T110818Z
UID:3964-1682640000-1682726399@associacaofamilias.pt
SUMMARY:Festa Litúrgica de Santa Joana Beretta Molla\, padroeira da Associação Famílias
DESCRIPTION:Grandes festividades\, venha participar.
URL:https://associacaofamilias.pt/event/festa-liturgica-de-santa-joana-beretta-molla-padroeira-da-associacao-familias/
CATEGORIES:Eventos
END:VEVENT
BEGIN:VEVENT
DTSTART;VALUE=DATE:20230325
DTEND;VALUE=DATE:20230326
DTSTAMP:20260421T134922
CREATED:20230531T111324Z
LAST-MODIFIED:20230531T111324Z
UID:3973-1679702400-1679788799@associacaofamilias.pt
SUMMARY:Dia da Criança por Nascer
DESCRIPTION:
URL:https://associacaofamilias.pt/event/dia-da-crianca-por-nascer/
CATEGORIES:Eventos
END:VEVENT
BEGIN:VEVENT
DTSTART;VALUE=DATE:20230626
DTEND;VALUE=DATE:20230627
DTSTAMP:20260421T134922
CREATED:20230531T053157Z
LAST-MODIFIED:20230531T111004Z
UID:767-1687737600-1687823999@associacaofamilias.pt
SUMMARY:Dia nacional dos avós
DESCRIPTION:
URL:https://associacaofamilias.pt/event/books-with-berke/
CATEGORIES:Eventos
END:VEVENT
END:VCALENDAR